BEGIN:VCALENDAR
VERSION:2.0
PRODID:-//Smarter Together
CALSCALE:GREGORIAN
X-WR-CALNAME:Grätzelspaziergänge nach Vereinbarung das ganze Jahr hindurch
BEGIN:VTIMEZONE
TZID:Europe/Berlin
TZURL:http://tzurl.org/zoneinfo-outlook/Europe/Berlin
X-LIC-LOCATION:Europe/Berlin
END:VTIMEZONE
BEGIN:VEVENT
CREATED:20190201T133028
DTSTAMP:20260421T075408
UID:10173
DTSTART;TZID="Europe/Berlin":20200512T163000
DTEND;TZID="Europe/Berlin":20100918T174500
LOCATION:NMS Enkplatz 4 (Vorhof), 1110 Wien (einfach hier anmelden) 
DESCRIPTION:
SUMMARY:Grätzelspaziergänge nach Vereinbarung das ganze Jahr hindurch
ORGANIZER:Smarter Together
URL:https://www.smartertogether.at/termine/graetzelspaziergaenge-nach-vereinbarung-das-ganze-jahr-hindurch/
TRANSP:OPAQUE
BEGIN:VALARM
ACTION:DISPLAY
TRIGGER:
DESCRIPTION:Reminder for Grätzelspaziergänge nach Vereinbarung das ganze Jahr hindurch
END:VALARM
END:VEVENT
END:VCALENDAR
END:VCALENDAR
