BEGIN:VCALENDAR
VERSION:2.0
PRODID:-//Smarter Together
CALSCALE:GREGORIAN
X-WR-CALNAME:Smart District Walk
BEGIN:VTIMEZONE
TZID:Europe/Berlin
TZURL:http://tzurl.org/zoneinfo-outlook/Europe/Berlin
X-LIC-LOCATION:Europe/Berlin
END:VTIMEZONE
BEGIN:VEVENT
CREATED:20190307T125437
DTSTAMP:20260421T075725
UID:10391
DTSTART;TZID="Europe/Berlin":20190906T144500
DTEND;TZID="Europe/Berlin":20190906T161500
LOCATION:VHS Simmering (Hall), Gottschalkgasse 10, 1110 Vienna
DESCRIPTION:
SUMMARY:Smart District Walk
ORGANIZER:Smarter Together
URL:https://www.smartertogether.at/termine/smart-district-walk/
TRANSP:OPAQUE
BEGIN:VALARM
ACTION:DISPLAY
TRIGGER:
DESCRIPTION:Reminder for Smart District Walk
END:VALARM
END:VEVENT
END:VCALENDAR
END:VCALENDAR
