BEGIN:VCALENDAR
VERSION:2.0
PRODID:-//Smarter Together
CALSCALE:GREGORIAN
X-WR-CALNAME:Radtour in Simmering
BEGIN:VTIMEZONE
TZID:Europe/Berlin
TZURL:http://tzurl.org/zoneinfo-outlook/Europe/Berlin
X-LIC-LOCATION:Europe/Berlin
END:VTIMEZONE
BEGIN:VEVENT
CREATED:20190408T125132
DTSTAMP:20260421T093254
UID:10486
DTSTART;TZID="Europe/Berlin":20190517T130000
DTEND;TZID="Europe/Berlin":20190517T140000
LOCATION:WienMobil-Station bei der U3-Haltestelle Simmering, vor dem Hochhaus am Simmeringer Platz 1, 1110 Wien
DESCRIPTION:
SUMMARY:Radtour in Simmering
ORGANIZER:Smarter Together
URL:https://www.smartertogether.at/termine/radtour-in-simmering/
TRANSP:OPAQUE
BEGIN:VALARM
ACTION:DISPLAY
TRIGGER:
DESCRIPTION:Reminder for Radtour in Simmering
END:VALARM
END:VEVENT
END:VCALENDAR
END:VCALENDAR
