BEGIN:VCALENDAR
VERSION:2.0
PRODID:-//Smarter Together
CALSCALE:GREGORIAN
X-WR-CALNAME:Bildungsgrätzel Enkplatz
BEGIN:VTIMEZONE
TZID:Europe/Berlin
TZURL:http://tzurl.org/zoneinfo-outlook/Europe/Berlin
X-LIC-LOCATION:Europe/Berlin
END:VTIMEZONE
BEGIN:VEVENT
CREATED:20190528T110231
DTSTAMP:20260421T075724
UID:10793
DTSTART;TZID="Europe/Berlin":20190624T150000
DTEND;TZID="Europe/Berlin":20190624T200000
LOCATION:Bildungszentrums Simmering, Gottschalkgasse 10, 11. Wien 
DESCRIPTION:
SUMMARY:Bildungsgrätzel Enkplatz
ORGANIZER:Smarter Together
URL:https://www.smartertogether.at/termine/bildungsgraetzel-enkplatz/
TRANSP:OPAQUE
BEGIN:VALARM
ACTION:DISPLAY
TRIGGER:
DESCRIPTION:Reminder for Bildungsgrätzel Enkplatz
END:VALARM
END:VEVENT
END:VCALENDAR
END:VCALENDAR
