BEGIN:VCALENDAR
VERSION:2.0
PRODID:-//Smarter Together
CALSCALE:GREGORIAN
X-WR-CALNAME:IBA vor Ort in Favoriten
BEGIN:VTIMEZONE
TZID:Europe/Berlin
TZURL:http://tzurl.org/zoneinfo-outlook/Europe/Berlin
X-LIC-LOCATION:Europe/Berlin
END:VTIMEZONE
BEGIN:VEVENT
CREATED:20190605T120636
DTSTAMP:20260421T075552
UID:10898
DTSTART;TZID="Europe/Berlin":20190617T120000
DTEND;TZID="Europe/Berlin":20190619T173000
LOCATION:Hauptbahnhof Wien, 1100 Wien, VHS PAHO, VHS Favoriten, 
DESCRIPTION:
SUMMARY:IBA vor Ort in Favoriten
ORGANIZER:Smarter Together
URL:https://www.smartertogether.at/termine/iba-vor-ort-in-favoriten/
TRANSP:OPAQUE
BEGIN:VALARM
ACTION:DISPLAY
TRIGGER:
DESCRIPTION:Reminder for IBA vor Ort in Favoriten
END:VALARM
END:VEVENT
END:VCALENDAR
END:VCALENDAR
