BEGIN:VCALENDAR
VERSION:2.0
PRODID:-//Smarter Together
CALSCALE:GREGORIAN
X-WR-CALNAME:Region Hörbigergründe
BEGIN:VTIMEZONE
TZID:Europe/Berlin
TZURL:http://tzurl.org/zoneinfo-outlook/Europe/Berlin
X-LIC-LOCATION:Europe/Berlin
END:VTIMEZONE
BEGIN:VEVENT
CREATED:20190617T075804
DTSTAMP:20260421T093156
UID:10985
DTSTART;TZID="Europe/Berlin":20190726T160000
DTEND;TZID="Europe/Berlin":20190726T200000
LOCATION:Spielplatz Hörbigergründe, 1110 Wien
DESCRIPTION:
SUMMARY:Region Hörbigergründe
ORGANIZER:Smarter Together
URL:https://www.smartertogether.at/termine/region-hoerbigergruende/
TRANSP:OPAQUE
BEGIN:VALARM
ACTION:DISPLAY
TRIGGER:
DESCRIPTION:Reminder for Region Hörbigergründe
END:VALARM
END:VEVENT
END:VCALENDAR
END:VCALENDAR
