BEGIN:VCALENDAR
VERSION:2.0
PRODID:-//Smarter Together
CALSCALE:GREGORIAN
X-WR-CALNAME:INUAS-Konferenz &#8222;Wohnen unter Druck&#8220;
BEGIN:VTIMEZONE
TZID:Europe/Berlin
TZURL:http://tzurl.org/zoneinfo-outlook/Europe/Berlin
X-LIC-LOCATION:Europe/Berlin
END:VTIMEZONE
BEGIN:VEVENT
CREATED:20190908T070015
DTSTAMP:20260421T075537
UID:11178
DTSTART;TZID="Europe/Berlin":20191104T080000
DTEND;TZID="Europe/Berlin":20191106T140000
LOCATION:FH Campus Wien, Favoritenstraße 226, 1100 Wien
DESCRIPTION:
SUMMARY:INUAS-Konferenz &#8222\;Wohnen unter Druck&#8220\;
ORGANIZER:Smarter Together
URL:https://www.smartertogether.at/termine/inuas-konferenz-wohnen-unter-druck/
TRANSP:OPAQUE
BEGIN:VALARM
ACTION:DISPLAY
TRIGGER:
DESCRIPTION:Reminder for INUAS-Konferenz &#8222\;Wohnen unter Druck&#8220\;
END:VALARM
END:VEVENT
END:VCALENDAR
END:VCALENDAR
