BEGIN:VCALENDAR
VERSION:2.0
PRODID:-//Smarter Together
CALSCALE:GREGORIAN
X-WR-CALNAME:Tag der offenen Autotür
BEGIN:VTIMEZONE
TZID:Europe/Berlin
TZURL:http://tzurl.org/zoneinfo-outlook/Europe/Berlin
X-LIC-LOCATION:Europe/Berlin
END:VTIMEZONE
BEGIN:VEVENT
CREATED:20190904T095642
DTSTAMP:20260421T075126
UID:11468
DTSTART;TZID="Europe/Berlin":20190921T150000
DTEND;TZID="Europe/Berlin":20190921T190000
LOCATION:Info-Point Hauffgasse 37
DESCRIPTION:
SUMMARY:Tag der offenen Autotür
ORGANIZER:Smarter Together
URL:https://www.smartertogether.at/termine/tag-der-offenen-autotuer/
TRANSP:OPAQUE
BEGIN:VALARM
ACTION:DISPLAY
TRIGGER:
DESCRIPTION:Reminder for Tag der offenen Autotür
END:VALARM
END:VEVENT
END:VCALENDAR
END:VCALENDAR
