BEGIN:VCALENDAR
VERSION:2.0
PRODID:-//Smarter Together
CALSCALE:GREGORIAN
X-WR-CALNAME:Wohnmesse in der Millennium City
BEGIN:VTIMEZONE
TZID:Europe/Berlin
TZURL:http://tzurl.org/zoneinfo-outlook/Europe/Berlin
X-LIC-LOCATION:Europe/Berlin
END:VTIMEZONE
BEGIN:VEVENT
CREATED:20190906T105805
DTSTAMP:20260421T075448
UID:11477
DTSTART;TZID="Europe/Berlin":20190905T090000
DTEND;TZID="Europe/Berlin":20190907T180000
LOCATION:Millennium City, Plaza, 1.Stock, 1200 Wien, Handelskai 94-96
DESCRIPTION:
SUMMARY:Wohnmesse in der Millennium City
ORGANIZER:Smarter Together
URL:https://www.smartertogether.at/termine/wohnmesse-in-der-millennium-city/
TRANSP:OPAQUE
BEGIN:VALARM
ACTION:DISPLAY
TRIGGER:
DESCRIPTION:Reminder for Wohnmesse in der Millennium City
END:VALARM
END:VEVENT
END:VCALENDAR
END:VCALENDAR
