BEGIN:VCALENDAR
VERSION:2.0
PRODID:-//Smarter Together
CALSCALE:GREGORIAN
X-WR-CALNAME:Tag der Wiener Schulen in der NMS Enkplatz
BEGIN:VTIMEZONE
TZID:Europe/Berlin
TZURL:http://tzurl.org/zoneinfo-outlook/Europe/Berlin
X-LIC-LOCATION:Europe/Berlin
END:VTIMEZONE
BEGIN:VEVENT
CREATED:20191004T155929
DTSTAMP:20260421T093552
UID:11798
DTSTART;TZID="Europe/Berlin":20191009T081500
DTEND;TZID="Europe/Berlin":20191009T130000
LOCATION:NMS Enkplatz 4, 1110 Simmering
DESCRIPTION:
SUMMARY:Tag der Wiener Schulen in der NMS Enkplatz
ORGANIZER:Smarter Together
URL:https://www.smartertogether.at/termine/tag-der-wiener-schulen-in-der-nms-enkplatz/
TRANSP:OPAQUE
BEGIN:VALARM
ACTION:DISPLAY
TRIGGER:
DESCRIPTION:Reminder for Tag der Wiener Schulen in der NMS Enkplatz
END:VALARM
END:VEVENT
END:VCALENDAR
END:VCALENDAR
