BEGIN:VCALENDAR
VERSION:2.0
PRODID:-//Smarter Together
CALSCALE:GREGORIAN
X-WR-CALNAME:Symposium Smarter Together
BEGIN:VTIMEZONE
TZID:Europe/Berlin
TZURL:http://tzurl.org/zoneinfo-outlook/Europe/Berlin
X-LIC-LOCATION:Europe/Berlin
END:VTIMEZONE
BEGIN:VEVENT
CREATED:20191025T112638
DTSTAMP:20260421T093416
UID:12103
DTSTART;TZID="Europe/Berlin":20191121T083000
DTEND;TZID="Europe/Berlin":20191121T163000
LOCATION:Rathaus Wien, Stadtsenatssitzungssaal. Friedrich Schmidt-Platz 1, 1010 Wien
DESCRIPTION:
SUMMARY:Symposium Smarter Together
ORGANIZER:Smarter Together
URL:https://www.smartertogether.at/termine/symposium-smarter-together/
TRANSP:OPAQUE
BEGIN:VALARM
ACTION:DISPLAY
TRIGGER:
DESCRIPTION:Reminder for Symposium Smarter Together
END:VALARM
END:VEVENT
END:VCALENDAR
END:VCALENDAR
