BEGIN:VCALENDAR
VERSION:2.0
PRODID:-//Smarter Together
CALSCALE:GREGORIAN
X-WR-CALNAME:Stadt der Zukunft im Grätzel
BEGIN:VTIMEZONE
TZID:Europe/Berlin
TZURL:http://tzurl.org/zoneinfo-outlook/Europe/Berlin
X-LIC-LOCATION:Europe/Berlin
END:VTIMEZONE
BEGIN:VEVENT
CREATED:20191206T153828
DTSTAMP:20260421T075536
UID:12353
DTSTART;TZID="Europe/Berlin":20200918T160000
DTEND;TZID="Europe/Berlin":20200918T180000
LOCATION:VHS Simmering, 1110 Wien, Gottschalkgasse 10
DESCRIPTION:
SUMMARY:Stadt der Zukunft im Grätzel
ORGANIZER:Smarter Together
URL:https://www.smartertogether.at/termine/stadt-der-zukunft-im-graetzel/
TRANSP:OPAQUE
BEGIN:VALARM
ACTION:DISPLAY
TRIGGER:
DESCRIPTION:Reminder for Stadt der Zukunft im Grätzel
END:VALARM
END:VEVENT
END:VCALENDAR
END:VCALENDAR
