BEGIN:VCALENDAR
VERSION:2.0
PRODID:-//Smarter Together
CALSCALE:GREGORIAN
X-WR-CALNAME:Multimediapräsentation zum Tag des Wiener Wohnbaus
BEGIN:VTIMEZONE
TZID:Europe/Berlin
TZURL:http://tzurl.org/zoneinfo-outlook/Europe/Berlin
X-LIC-LOCATION:Europe/Berlin
END:VTIMEZONE
BEGIN:VEVENT
CREATED:20200824T134204
DTSTAMP:20260421T075544
UID:13119
DTSTART;TZID="Europe/Berlin":20200907T170000
DTEND;TZID="Europe/Berlin":20200907T180000
LOCATION:wohnfonds_wien-Forum in der Lenaugasse Ecke Schmidgasse, 1080 Wien
DESCRIPTION:
SUMMARY:Multimediapräsentation zum Tag des Wiener Wohnbaus
ORGANIZER:Smarter Together
URL:https://www.smartertogether.at/termine/multimediapraesentation-zum-tag-des-wiener-wohnbaus/
TRANSP:OPAQUE
BEGIN:VALARM
ACTION:DISPLAY
TRIGGER:
DESCRIPTION:Reminder for Multimediapräsentation zum Tag des Wiener Wohnbaus
END:VALARM
END:VEVENT
END:VCALENDAR
END:VCALENDAR
