BEGIN:VCALENDAR
VERSION:2.0
PRODID:-//Smarter Together
CALSCALE:GREGORIAN
X-WR-CALNAME:Live-stream Business Treff „Smarte Lösungen für Städte“
BEGIN:VTIMEZONE
TZID:Europe/Berlin
TZURL:http://tzurl.org/zoneinfo-outlook/Europe/Berlin
X-LIC-LOCATION:Europe/Berlin
END:VTIMEZONE
BEGIN:VEVENT
CREATED:20201030T123919
DTSTAMP:20260421T075608
UID:13393
DTSTART;TZID="Europe/Berlin":20201203T090000
DTEND;TZID="Europe/Berlin":20201203T111500
LOCATION:Live-Stream der Wirtschaftagentur Wien
DESCRIPTION:
SUMMARY:Live-stream Business Treff „Smarte Lösungen für Städte“
ORGANIZER:Smarter Together
URL:https://www.smartertogether.at/termine/live-stream-business-treff-smarte-loesungen-fuer-staedte/
TRANSP:OPAQUE
BEGIN:VALARM
ACTION:DISPLAY
TRIGGER:
DESCRIPTION:Reminder for Live-stream Business Treff „Smarte Lösungen für Städte“
END:VALARM
END:VEVENT
END:VCALENDAR
END:VCALENDAR
