BEGIN:VCALENDAR
VERSION:2.0
PRODID:-//Smarter Together
CALSCALE:GREGORIAN
X-WR-CALNAME:Abschlusskonferenz
BEGIN:VTIMEZONE
TZID:Europe/Berlin
TZURL:http://tzurl.org/zoneinfo-outlook/Europe/Berlin
X-LIC-LOCATION:Europe/Berlin
END:VTIMEZONE
BEGIN:VEVENT
CREATED:20210602T110940
DTSTAMP:20260421T075551
UID:13676
DTSTART;TZID="Europe/Berlin":20210701T090000
DTEND;TZID="Europe/Berlin":20210702T163000
LOCATION:online
DESCRIPTION:
SUMMARY:Abschlusskonferenz
ORGANIZER:Smarter Together
URL:https://www.smartertogether.at/termine/abschlusskonferenz/
TRANSP:OPAQUE
BEGIN:VALARM
ACTION:DISPLAY
TRIGGER:
DESCRIPTION:Reminder for Abschlusskonferenz
END:VALARM
END:VEVENT
END:VCALENDAR
END:VCALENDAR
