BEGIN:VCALENDAR
VERSION:2.0
PRODID:-//Smarter Together
CALSCALE:GREGORIAN
X-WR-CALNAME:UNIVEERS, Limoges (FR)
BEGIN:VTIMEZONE
TZID:Europe/Berlin
TZURL:http://tzurl.org/zoneinfo-outlook/Europe/Berlin
X-LIC-LOCATION:Europe/Berlin
END:VTIMEZONE
BEGIN:VEVENT
CREATED:20210608T075101
DTSTAMP:20260421T075422
UID:13679
DTSTART;TZID="Europe/Berlin":20210610T140000
DTEND;TZID="Europe/Berlin":20210610T163000
LOCATION:online
DESCRIPTION:
SUMMARY:UNIVEERS\, Limoges (FR)
ORGANIZER:Smarter Together
URL:https://www.smartertogether.at/termine/univeers-limoges-fr/
TRANSP:OPAQUE
BEGIN:VALARM
ACTION:DISPLAY
TRIGGER:
DESCRIPTION:Reminder for UNIVEERS\, Limoges (FR)
END:VALARM
END:VEVENT
END:VCALENDAR
END:VCALENDAR
