BEGIN:VCALENDAR
VERSION:2.0
PRODID:-//Smarter Together
CALSCALE:GREGORIAN
X-WR-CALNAME:Grätzlspaziergang
BEGIN:VTIMEZONE
TZID:Europe/Berlin
TZURL:http://tzurl.org/zoneinfo-outlook/Europe/Berlin
X-LIC-LOCATION:Europe/Berlin
END:VTIMEZONE
BEGIN:VEVENT
CREATED:20210818T104539
DTSTAMP:20260421T075719
UID:14104
DTSTART;TZID="Europe/Berlin":20210907T170000
DTEND;TZID="Europe/Berlin":20210907T184500
LOCATION:Vorplatz VHS SImmering, 1110 Wien, Gottschalkgasse 10  
DESCRIPTION:
SUMMARY:Grätzlspaziergang
ORGANIZER:Smarter Together
URL:https://www.smartertogether.at/termine/graetzlspaziergang/
TRANSP:OPAQUE
BEGIN:VALARM
ACTION:DISPLAY
TRIGGER:
DESCRIPTION:Reminder for Grätzlspaziergang
END:VALARM
END:VEVENT
END:VCALENDAR
END:VCALENDAR
