BEGIN:VCALENDAR
VERSION:2.0
PRODID:-//Smarter Together
CALSCALE:GREGORIAN
X-WR-CALNAME:IBA_Wien 2022 Schlusspräsentation
BEGIN:VTIMEZONE
TZID:Europe/Berlin
TZURL:http://tzurl.org/zoneinfo-outlook/Europe/Berlin
X-LIC-LOCATION:Europe/Berlin
END:VTIMEZONE
BEGIN:VEVENT
CREATED:20220307T104645
DTSTAMP:20260421T075016
UID:14399
DTSTART;TZID="Europe/Berlin":20220623T100000
DTEND;TZID="Europe/Berlin":20221118T170000
LOCATION:Nordwestbahnstraße 16, 1200 Wien
DESCRIPTION:
SUMMARY:IBA_Wien 2022 Schlusspräsentation
ORGANIZER:Smarter Together
URL:https://www.smartertogether.at/termine/iba_wien-2022-schlusspraesentation/
TRANSP:OPAQUE
BEGIN:VALARM
ACTION:DISPLAY
TRIGGER:
DESCRIPTION:Reminder for IBA_Wien 2022 Schlusspräsentation
END:VALARM
END:VEVENT
END:VCALENDAR
END:VCALENDAR
