BEGIN:VCALENDAR
VERSION:2.0
PRODID:-//Smarter Together
CALSCALE:GREGORIAN
X-WR-CALNAME:IBA_Wien, Smarter Together Grätzlspaziergang
BEGIN:VTIMEZONE
TZID:Europe/Berlin
TZURL:http://tzurl.org/zoneinfo-outlook/Europe/Berlin
X-LIC-LOCATION:Europe/Berlin
END:VTIMEZONE
BEGIN:VEVENT
CREATED:20220307T111411
DTSTAMP:20260421T075606
UID:14411
DTSTART;TZID="Europe/Berlin":20220825T170000
DTEND;TZID="Europe/Berlin":20220825T190000
LOCATION:Vorplatz VHS Simmering, Gottschalkgasse 10, 1110 Wien
DESCRIPTION:
SUMMARY:IBA_Wien\, Smarter Together Grätzlspaziergang
ORGANIZER:Smarter Together
URL:https://www.smartertogether.at/termine/iba_wien-smarter-together-graetzlspaziergang-2/
TRANSP:OPAQUE
BEGIN:VALARM
ACTION:DISPLAY
TRIGGER:
DESCRIPTION:Reminder for IBA_Wien\, Smarter Together Grätzlspaziergang
END:VALARM
END:VEVENT
END:VCALENDAR
END:VCALENDAR
