BEGIN:VCALENDAR
VERSION:2.0
PRODID:-//Smarter Together
CALSCALE:GREGORIAN
X-WR-CALNAME:IBA_Wien: Gemeinsam wissen wir mehr. Für ganz Wien
BEGIN:VTIMEZONE
TZID:Europe/Berlin
TZURL:http://tzurl.org/zoneinfo-outlook/Europe/Berlin
X-LIC-LOCATION:Europe/Berlin
END:VTIMEZONE
BEGIN:VEVENT
CREATED:20220825T065443
DTSTAMP:20260421T075551
UID:14571
DTSTART;TZID="Europe/Berlin":20220908T180000
DTEND;TZID="Europe/Berlin":20220908T210000
LOCATION:IBA-Zentrum, Nordwestbahnstraße 16, 1200 Wien
DESCRIPTION:
SUMMARY:IBA_Wien: Gemeinsam wissen wir mehr. Für ganz Wien
ORGANIZER:Smarter Together
URL:https://www.smartertogether.at/termine/iba_wien-gemeinsam-wissen-wir-mehr-fuer-ganz-wien/
TRANSP:OPAQUE
BEGIN:VALARM
ACTION:DISPLAY
TRIGGER:
DESCRIPTION:Reminder for IBA_Wien: Gemeinsam wissen wir mehr. Für ganz Wien
END:VALARM
END:VEVENT
END:VCALENDAR
END:VCALENDAR
