BEGIN:VCALENDAR
VERSION:2.0
PRODID:-//Smarter Together
CALSCALE:GREGORIAN
X-WR-CALNAME:Open House, WHA Hauffgasse
BEGIN:VTIMEZONE
TZID:Europe/Berlin
TZURL:http://tzurl.org/zoneinfo-outlook/Europe/Berlin
X-LIC-LOCATION:Europe/Berlin
END:VTIMEZONE
BEGIN:VEVENT
CREATED:20220902T055207
DTSTAMP:20260421T093636
UID:14590
DTSTART;TZID="Europe/Berlin":20220910T100000
DTEND;TZID="Europe/Berlin":20220910T170000
LOCATION:Hauffgasse 37, 1110 Wien
DESCRIPTION:
SUMMARY:Open House\, WHA Hauffgasse
ORGANIZER:Smarter Together
URL:https://www.smartertogether.at/termine/open-house-wha-hauffgasse/
TRANSP:OPAQUE
BEGIN:VALARM
ACTION:DISPLAY
TRIGGER:
DESCRIPTION:Reminder for Open House\, WHA Hauffgasse
END:VALARM
END:VEVENT
END:VCALENDAR
END:VCALENDAR
