BEGIN:VCALENDAR
VERSION:2.0
PRODID:-//Smarter Together
CALSCALE:GREGORIAN
X-WR-CALNAME:Gemma Zukunft
BEGIN:VTIMEZONE
TZID:Europe/Berlin
TZURL:http://tzurl.org/zoneinfo-outlook/Europe/Berlin
X-LIC-LOCATION:Europe/Berlin
END:VTIMEZONE
BEGIN:VEVENT
CREATED:20240403T065733
DTSTAMP:20260421T075446
UID:14692
DTSTART;TZID="Europe/Berlin":20240917T160000
DTEND;TZID="Europe/Berlin":20240917T180000
LOCATION:Vorplatz VHS Simmering, Polkorabplatz 10 (Bim 6er, 11er, U3 Enkplatz, (Lift-)Ausgang Gottschalkgasse), 1110 Wien
DESCRIPTION:
SUMMARY:Gemma Zukunft
ORGANIZER:Smarter Together
URL:https://www.smartertogether.at/termine/gemma-zukunft-2/
TRANSP:OPAQUE
BEGIN:VALARM
ACTION:DISPLAY
TRIGGER:
DESCRIPTION:Reminder for Gemma Zukunft
END:VALARM
END:VEVENT
END:VCALENDAR
END:VCALENDAR
