BEGIN:VCALENDAR
VERSION:2.0
PRODID:-//Smarter Together
CALSCALE:GREGORIAN
X-WR-CALNAME:Mobilität in der Stadt
BEGIN:VTIMEZONE
TZID:Europe/Berlin
TZURL:http://tzurl.org/zoneinfo-outlook/Europe/Berlin
X-LIC-LOCATION:Europe/Berlin
END:VTIMEZONE
BEGIN:VEVENT
CREATED:20180626T134130
DTSTAMP:20260421T093457
UID:6996
DTSTART;TZID="Europe/Berlin":20180706T140000
DTEND;TZID="Europe/Berlin":20180706T150000
LOCATION:Siemens Wien-Simmering, Werksgelände
DESCRIPTION:
SUMMARY:Mobilität in der Stadt
ORGANIZER:Smarter Together
URL:https://www.smartertogether.at/termine/mobilitaet-in-der-stadt/
TRANSP:OPAQUE
BEGIN:VALARM
ACTION:DISPLAY
TRIGGER:
DESCRIPTION:Reminder for Mobilität in der Stadt
END:VALARM
END:VEVENT
END:VCALENDAR
END:VCALENDAR
