BEGIN:VCALENDAR
VERSION:2.0
PRODID:-//Smarter Together
CALSCALE:GREGORIAN
X-WR-CALNAME:Wien wächst.
BEGIN:VTIMEZONE
TZID:Europe/Berlin
TZURL:http://tzurl.org/zoneinfo-outlook/Europe/Berlin
X-LIC-LOCATION:Europe/Berlin
END:VTIMEZONE
BEGIN:VEVENT
CREATED:20180627T093616
DTSTAMP:20260421T075213
UID:7115
DTSTART;TZID="Europe/Berlin":20180609T144500
DTEND;TZID="Europe/Berlin":20180609T164500
LOCATION:GB* Stadtteilmanagement Landgutgasse 2-4. 1100 Wien
DESCRIPTION:
SUMMARY:Wien wächst.
ORGANIZER:Smarter Together
URL:https://www.smartertogether.at/termine/wien-waechst/
TRANSP:OPAQUE
BEGIN:VALARM
ACTION:DISPLAY
TRIGGER:
DESCRIPTION:Reminder for Wien wächst.
END:VALARM
END:VEVENT
END:VCALENDAR
END:VCALENDAR
