BEGIN:VCALENDAR
VERSION:2.0
PRODID:-//Smarter Together
CALSCALE:GREGORIAN
X-WR-CALNAME:Energie sparen ist dein Kaffee.
BEGIN:VTIMEZONE
TZID:Europe/Berlin
TZURL:http://tzurl.org/zoneinfo-outlook/Europe/Berlin
X-LIC-LOCATION:Europe/Berlin
END:VTIMEZONE
BEGIN:VEVENT
CREATED:20180629T171028
DTSTAMP:20260421T075128
UID:7702
DTSTART;TZID="Europe/Berlin":20180407T100000
DTEND;TZID="Europe/Berlin":20180407T130000
LOCATION:Café Nola, Mautner-Markhof-Gasse 58, Stiege 4, 1110 Wien
DESCRIPTION:
SUMMARY:Energie sparen ist dein Kaffee.
ORGANIZER:Smarter Together
URL:https://www.smartertogether.at/termine/energie-sparen-ist-dein-kaffee/
TRANSP:OPAQUE
BEGIN:VALARM
ACTION:DISPLAY
TRIGGER:
DESCRIPTION:Reminder for Energie sparen ist dein Kaffee.
END:VALARM
END:VEVENT
END:VCALENDAR
END:VCALENDAR
