BEGIN:VCALENDAR
VERSION:2.0
PRODID:-//Smarter Together
CALSCALE:GREGORIAN
X-WR-CALNAME:Webinar aus München.
BEGIN:VTIMEZONE
TZID:Europe/Berlin
TZURL:http://tzurl.org/zoneinfo-outlook/Europe/Berlin
X-LIC-LOCATION:Europe/Berlin
END:VTIMEZONE
BEGIN:VEVENT
CREATED:20180702T102912
DTSTAMP:20260421T093318
UID:7743
DTSTART;TZID="Europe/Berlin":20180517T113000
DTEND;TZID="Europe/Berlin":20180517T123000
LOCATION:online
DESCRIPTION:
SUMMARY:Webinar aus München.
ORGANIZER:Smarter Together
URL:https://www.smartertogether.at/termine/webinar-aus-muenchen-2/
TRANSP:OPAQUE
BEGIN:VALARM
ACTION:DISPLAY
TRIGGER:
DESCRIPTION:Reminder for Webinar aus München.
END:VALARM
END:VEVENT
END:VCALENDAR
END:VCALENDAR
