BEGIN:VCALENDAR
VERSION:2.0
PRODID:-//Smarter Together
CALSCALE:GREGORIAN
X-WR-CALNAME:Erstes Webinar von Smarter Together.
BEGIN:VTIMEZONE
TZID:Europe/Berlin
TZURL:http://tzurl.org/zoneinfo-outlook/Europe/Berlin
X-LIC-LOCATION:Europe/Berlin
END:VTIMEZONE
BEGIN:VEVENT
CREATED:20180702T103243
DTSTAMP:20260421T075244
UID:7747
DTSTART;TZID="Europe/Berlin":20180321T000000
DTEND;TZID="Europe/Berlin":20180321T000000
LOCATION:online
DESCRIPTION:
SUMMARY:Erstes Webinar von Smarter Together.
ORGANIZER:Smarter Together
URL:https://www.smartertogether.at/termine/erstes-webinar-von-smarter-together/
TRANSP:OPAQUE
BEGIN:VALARM
ACTION:DISPLAY
TRIGGER:
DESCRIPTION:Reminder for Erstes Webinar von Smarter Together.
END:VALARM
END:VEVENT
END:VCALENDAR
END:VCALENDAR
