BEGIN:VCALENDAR
VERSION:2.0
PRODID:-//Smarter Together
CALSCALE:GREGORIAN
X-WR-CALNAME:Tag der offenen Tür.
BEGIN:VTIMEZONE
TZID:Europe/Berlin
TZURL:http://tzurl.org/zoneinfo-outlook/Europe/Berlin
X-LIC-LOCATION:Europe/Berlin
END:VTIMEZONE
BEGIN:VEVENT
CREATED:20180702T103412
DTSTAMP:20260421T093201
UID:7749
DTSTART;TZID="Europe/Berlin":20180213T150000
DTEND;TZID="Europe/Berlin":20180213T160000
LOCATION:Hauffgasse 37-47, 1110 Wien
DESCRIPTION:
SUMMARY:Tag der offenen Tür.
ORGANIZER:Smarter Together
URL:https://www.smartertogether.at/termine/tag-der-offenen-tuer/
TRANSP:OPAQUE
BEGIN:VALARM
ACTION:DISPLAY
TRIGGER:
DESCRIPTION:Reminder for Tag der offenen Tür.
END:VALARM
END:VEVENT
END:VCALENDAR
END:VCALENDAR
