BEGIN:VCALENDAR
VERSION:2.0
PRODID:-//Smarter Together
CALSCALE:GREGORIAN
X-WR-CALNAME:Tag der Bildung in der VHS Simmering
BEGIN:VTIMEZONE
TZID:Europe/Berlin
TZURL:http://tzurl.org/zoneinfo-outlook/Europe/Berlin
X-LIC-LOCATION:Europe/Berlin
END:VTIMEZONE
BEGIN:VEVENT
CREATED:20180810T110553
DTSTAMP:20260421T075121
UID:8693
DTSTART;TZID="Europe/Berlin":20180920T160000
DTEND;TZID="Europe/Berlin":20180920T190000
LOCATION:Vorplatz VHS Simmering, Gottschalkgasse 10, 1110 Wien
DESCRIPTION:
SUMMARY:Tag der Bildung in der VHS Simmering
ORGANIZER:Smarter Together
URL:https://www.smartertogether.at/termine/tag-der-bildung-in-der-vhs-simmering/
TRANSP:OPAQUE
BEGIN:VALARM
ACTION:DISPLAY
TRIGGER:
DESCRIPTION:Reminder for Tag der Bildung in der VHS Simmering
END:VALARM
END:VEVENT
END:VCALENDAR
END:VCALENDAR
