BEGIN:VCALENDAR
VERSION:2.0
PRODID:-//Smarter Together
CALSCALE:GREGORIAN
X-WR-CALNAME:SIMmobil im September
BEGIN:VTIMEZONE
TZID:Europe/Berlin
TZURL:http://tzurl.org/zoneinfo-outlook/Europe/Berlin
X-LIC-LOCATION:Europe/Berlin
END:VTIMEZONE
BEGIN:VEVENT
CREATED:20180820T073002
DTSTAMP:20260421T093120
UID:8750
DTSTART;TZID="Europe/Berlin":20180903T120000
DTEND;TZID="Europe/Berlin":20180926T180000
LOCATION:Simmeringer Platz (Ausgang U-Bahnstation Simmering), 1110 Wien
DESCRIPTION:
SUMMARY:SIMmobil im September
ORGANIZER:Smarter Together
URL:https://www.smartertogether.at/termine/simmobil-im-september/
TRANSP:OPAQUE
BEGIN:VALARM
ACTION:DISPLAY
TRIGGER:
DESCRIPTION:Reminder for SIMmobil im September
END:VALARM
END:VEVENT
END:VCALENDAR
END:VCALENDAR
