BEGIN:VCALENDAR
VERSION:2.0
PRODID:-//Smarter Together
CALSCALE:GREGORIAN
X-WR-CALNAME:Kirango Art mit Sibylle Vogel
BEGIN:VTIMEZONE
TZID:Europe/Berlin
TZURL:http://tzurl.org/zoneinfo-outlook/Europe/Berlin
X-LIC-LOCATION:Europe/Berlin
END:VTIMEZONE
BEGIN:VEVENT
CREATED:20180907T050017
DTSTAMP:20260421T075350
UID:8771
DTSTART;TZID="Europe/Berlin":20180928T160000
DTEND;TZID="Europe/Berlin":20180928T170000
LOCATION:Bücherei im Bildungszentrum Simmering, 1110 Gottschalkgasse 10
DESCRIPTION:
SUMMARY:Kirango Art mit Sibylle Vogel
ORGANIZER:Smarter Together
URL:https://www.smartertogether.at/termine/kirango-art-mit-sibylle-vogel/
TRANSP:OPAQUE
BEGIN:VALARM
ACTION:DISPLAY
TRIGGER:
DESCRIPTION:Reminder for Kirango Art mit Sibylle Vogel
END:VALARM
END:VEVENT
END:VCALENDAR
END:VCALENDAR
