BEGIN:VCALENDAR
VERSION:2.0
PRODID:-//Smarter Together
CALSCALE:GREGORIAN
X-WR-CALNAME:Eröffnung WienMobil Station
BEGIN:VTIMEZONE
TZID:Europe/Berlin
TZURL:http://tzurl.org/zoneinfo-outlook/Europe/Berlin
X-LIC-LOCATION:Europe/Berlin
END:VTIMEZONE
BEGIN:VEVENT
CREATED:20180827T095625
DTSTAMP:20260421T093330
UID:8865
DTSTART;TZID="Europe/Berlin":20180921T120000
DTEND;TZID="Europe/Berlin":20180921T180000
LOCATION:Simmeringer Platz 1 (vor dem Optiker und der Apotheke), 1110 Wien
DESCRIPTION:
SUMMARY:Eröffnung WienMobil Station
ORGANIZER:Smarter Together
URL:https://www.smartertogether.at/termine/eroeffnung-wienmobil-station/
TRANSP:OPAQUE
BEGIN:VALARM
ACTION:DISPLAY
TRIGGER:
DESCRIPTION:Reminder for Eröffnung WienMobil Station
END:VALARM
END:VEVENT
END:VCALENDAR
END:VCALENDAR
