BEGIN:VCALENDAR
VERSION:2.0
PRODID:-//Smarter Together
CALSCALE:GREGORIAN
X-WR-CALNAME:Mal-Aktion: Mach Simmering bunter!
BEGIN:VTIMEZONE
TZID:Europe/Berlin
TZURL:http://tzurl.org/zoneinfo-outlook/Europe/Berlin
X-LIC-LOCATION:Europe/Berlin
END:VTIMEZONE
BEGIN:VEVENT
CREATED:20180918T073034
DTSTAMP:20260421T093201
UID:9015
DTSTART;TZID="Europe/Berlin":20181012T150000
DTEND;TZID="Europe/Berlin":20181013T190000
LOCATION:Vorplatz S-Bahnstation Geiselbergstraße (Ecke Am Kanal)
DESCRIPTION:
SUMMARY:Mal-Aktion: Mach Simmering bunter!
ORGANIZER:Smarter Together
URL:https://www.smartertogether.at/termine/mal-aktion-mach-simmering-bunter/
TRANSP:OPAQUE
BEGIN:VALARM
ACTION:DISPLAY
TRIGGER:
DESCRIPTION:Reminder for Mal-Aktion: Mach Simmering bunter!
END:VALARM
END:VEVENT
END:VCALENDAR
END:VCALENDAR
