BEGIN:VCALENDAR
VERSION:2.0
PRODID:-//Smarter Together
CALSCALE:GREGORIAN
X-WR-CALNAME:Smart City Open Day
BEGIN:VTIMEZONE
TZID:Europe/Berlin
TZURL:http://tzurl.org/zoneinfo-outlook/Europe/Berlin
X-LIC-LOCATION:Europe/Berlin
END:VTIMEZONE
BEGIN:VEVENT
CREATED:20181001T080051
DTSTAMP:20260421T075536
UID:9090
DTSTART;TZID="Europe/Berlin":20181017T090000
DTEND;TZID="Europe/Berlin":20181017T173000
LOCATION:Wiener Planungswerkstatt, 1010 Wien, Friedrich Schmidt-Platz 9
DESCRIPTION:
SUMMARY:Smart City Open Day
ORGANIZER:Smarter Together
URL:https://www.smartertogether.at/termine/smart-city-open-day/
TRANSP:OPAQUE
BEGIN:VALARM
ACTION:DISPLAY
TRIGGER:
DESCRIPTION:Reminder for Smart City Open Day
END:VALARM
END:VEVENT
END:VCALENDAR
END:VCALENDAR
