BEGIN:VCALENDAR
VERSION:2.0
PRODID:-//Smarter Together
CALSCALE:GREGORIAN
X-WR-CALNAME:wohnfonds_wien_talk
BEGIN:VTIMEZONE
TZID:Europe/Berlin
TZURL:http://tzurl.org/zoneinfo-outlook/Europe/Berlin
X-LIC-LOCATION:Europe/Berlin
END:VTIMEZONE
BEGIN:VEVENT
CREATED:20180924T105357
DTSTAMP:20260421T093156
UID:9110
DTSTART;TZID="Europe/Berlin":20181002T180000
DTEND;TZID="Europe/Berlin":20181002T190000
LOCATION:Architekturzentrum Wien (Az W), Museumsplatz 1 im MQ, 1070 Wien
DESCRIPTION:
SUMMARY:wohnfonds_wien_talk
ORGANIZER:Smarter Together
URL:https://www.smartertogether.at/termine/wohnfonds_wien_talk/
TRANSP:OPAQUE
BEGIN:VALARM
ACTION:DISPLAY
TRIGGER:
DESCRIPTION:Reminder for wohnfonds_wien_talk
END:VALARM
END:VEVENT
END:VCALENDAR
END:VCALENDAR
