BEGIN:VCALENDAR
VERSION:2.0
PRODID:-//Smarter Together
CALSCALE:GREGORIAN
X-WR-CALNAME:Online-Befragung zur Mobilität
BEGIN:VTIMEZONE
TZID:Europe/Berlin
TZURL:http://tzurl.org/zoneinfo-outlook/Europe/Berlin
X-LIC-LOCATION:Europe/Berlin
END:VTIMEZONE
BEGIN:VEVENT
CREATED:20181004T071700
DTSTAMP:20260421T093254
UID:9159
DTSTART;TZID="Europe/Berlin":20181001T000000
DTEND;TZID="Europe/Berlin":20181011T235900
LOCATION:Online https://tiny.cc/z1qnvy
DESCRIPTION:
SUMMARY:Online-Befragung zur Mobilität
ORGANIZER:Smarter Together
URL:https://www.smartertogether.at/termine/online-befragung-zur-mobilitaet/
TRANSP:OPAQUE
BEGIN:VALARM
ACTION:DISPLAY
TRIGGER:
DESCRIPTION:Reminder for Online-Befragung zur Mobilität
END:VALARM
END:VEVENT
END:VCALENDAR
END:VCALENDAR
