BEGIN:VCALENDAR
VERSION:2.0
PRODID:-//Smarter Together
CALSCALE:GREGORIAN
X-WR-CALNAME:Simmeringer Straßenfest
BEGIN:VTIMEZONE
TZID:Europe/Berlin
TZURL:http://tzurl.org/zoneinfo-outlook/Europe/Berlin
X-LIC-LOCATION:Europe/Berlin
END:VTIMEZONE
BEGIN:VEVENT
CREATED:20181004T102810
DTSTAMP:20260421T093545
UID:9164
DTSTART;TZID="Europe/Berlin":20181006T100000
DTEND;TZID="Europe/Berlin":20181006T150000
LOCATION:Simmeringer Hauptstraße, Standplatz im Bereich U-Bahnstation Simmering
DESCRIPTION:
SUMMARY:Simmeringer Straßenfest
ORGANIZER:Smarter Together
URL:https://www.smartertogether.at/termine/simmeringer-strassenfest/
TRANSP:OPAQUE
BEGIN:VALARM
ACTION:DISPLAY
TRIGGER:
DESCRIPTION:Reminder for Simmeringer Straßenfest
END:VALARM
END:VEVENT
END:VCALENDAR
END:VCALENDAR
