BEGIN:VCALENDAR
VERSION:2.0
PRODID:-//Smarter Together
CALSCALE:GREGORIAN
X-WR-CALNAME:Mobilitätsbefragung im Zentrum Simmering
BEGIN:VTIMEZONE
TZID:Europe/Berlin
TZURL:http://tzurl.org/zoneinfo-outlook/Europe/Berlin
X-LIC-LOCATION:Europe/Berlin
END:VTIMEZONE
BEGIN:VEVENT
CREATED:20181010T073138
DTSTAMP:20260421T075014
UID:9166
DTSTART;TZID="Europe/Berlin":20181015T100000
DTEND;TZID="Europe/Berlin":20181019T160000
LOCATION:Zentrum Simmering, Aula
DESCRIPTION:
SUMMARY:Mobilitätsbefragung im Zentrum Simmering
ORGANIZER:Smarter Together
URL:https://www.smartertogether.at/termine/mobilitaetsbefragung-im-zentrum-simmering/
TRANSP:OPAQUE
BEGIN:VALARM
ACTION:DISPLAY
TRIGGER:
DESCRIPTION:Reminder for Mobilitätsbefragung im Zentrum Simmering
END:VALARM
END:VEVENT
END:VCALENDAR
END:VCALENDAR
