BEGIN:VCALENDAR
VERSION:2.0
PRODID:-//Smarter Together
CALSCALE:GREGORIAN
X-WR-CALNAME:FIWARE ICT Challenge Wien
BEGIN:VTIMEZONE
TZID:Europe/Berlin
TZURL:http://tzurl.org/zoneinfo-outlook/Europe/Berlin
X-LIC-LOCATION:Europe/Berlin
END:VTIMEZONE
BEGIN:VEVENT
CREATED:20181116T140455
DTSTAMP:20260421T075422
UID:9624
DTSTART;TZID="Europe/Berlin":20181204T143000
DTEND;TZID="Europe/Berlin":20181206T133000
LOCATION:Austria Center Vienna, Bruno-Kreisky-Platz 1, 1220 Wien
DESCRIPTION:
SUMMARY:FIWARE ICT Challenge Wien
ORGANIZER:Smarter Together
URL:https://www.smartertogether.at/termine/fiware-ict-challenge-wien/
TRANSP:OPAQUE
BEGIN:VALARM
ACTION:DISPLAY
TRIGGER:
DESCRIPTION:Reminder for FIWARE ICT Challenge Wien
END:VALARM
END:VEVENT
END:VCALENDAR
END:VCALENDAR
